BEGIN:VCALENDAR
VERSION:2.0
PRODID:-//Volksschule Vasoldsberg - ECPv5.16.4//NONSGML v1.0//EN
CALSCALE:GREGORIAN
METHOD:PUBLISH
X-WR-CALNAME:Volksschule Vasoldsberg
X-ORIGINAL-URL:https://www.vs-vasoldsberg.at
X-WR-CALDESC:Veranstaltungen für Volksschule Vasoldsberg
BEGIN:VTIMEZONE
TZID:Europe/Vienna
BEGIN:DAYLIGHT
TZOFFSETFROM:+0100
TZOFFSETTO:+0200
TZNAME:CEST
DTSTART:20250330T010000
END:DAYLIGHT
BEGIN:STANDARD
TZOFFSETFROM:+0200
TZOFFSETTO:+0100
TZNAME:CET
DTSTART:20251026T010000
END:STANDARD
END:VTIMEZONE
BEGIN:VEVENT
DTSTART;TZID=Europe/Vienna:20251024T080000
DTEND;TZID=Europe/Vienna:20251024T100000
DTSTAMP:20260423T155316
CREATED:20230828T165928Z
LAST-MODIFIED:20250810T081710Z
UID:9286-1761292800-1761300000@www.vs-vasoldsberg.at
SUMMARY:Tag der offenen Türe (Schulanfänger*innen 2026/27)
DESCRIPTION:
URL:https://www.vs-vasoldsberg.at/event/tag-der-offenen-tuere-schulanfaengerinnen-2024-25/
END:VEVENT
END:VCALENDAR