BEGIN:VCALENDAR
VERSION:2.0
PRODID:-//Volksschule Vasoldsberg - ECPv5.16.4//NONSGML v1.0//EN
CALSCALE:GREGORIAN
METHOD:PUBLISH
X-WR-CALNAME:Volksschule Vasoldsberg
X-ORIGINAL-URL:https://www.vs-vasoldsberg.at
X-WR-CALDESC:Veranstaltungen für Volksschule Vasoldsberg
BEGIN:VTIMEZONE
TZID:Europe/Vienna
BEGIN:DAYLIGHT
TZOFFSETFROM:+0100
TZOFFSETTO:+0200
TZNAME:CEST
DTSTART:20250330T010000
END:DAYLIGHT
BEGIN:STANDARD
TZOFFSETFROM:+0200
TZOFFSETTO:+0100
TZNAME:CET
DTSTART:20251026T010000
END:STANDARD
END:VTIMEZONE
BEGIN:VEVENT
DTSTART;TZID=Europe/Vienna:20250929T080000
DTEND;TZID=Europe/Vienna:20250929T130000
DTSTAMP:20260423T104627
CREATED:20250905T072320Z
LAST-MODIFIED:20250905T072320Z
UID:11352-1759132800-1759150800@www.vs-vasoldsberg.at
SUMMARY:Radfahrkurs (4. Klassen) - Klimaaktiv mobil Radfahrkurse
DESCRIPTION:
URL:https://www.vs-vasoldsberg.at/event/radfahrkurs-4-klassen-klimaaktiv-mobil-radfahrkurse/
END:VEVENT
END:VCALENDAR