BEGIN:VCALENDAR
VERSION:2.0
PRODID:-//Volksschule Vasoldsberg - ECPv5.16.4//NONSGML v1.0//EN
CALSCALE:GREGORIAN
METHOD:PUBLISH
X-WR-CALNAME:Volksschule Vasoldsberg
X-ORIGINAL-URL:https://www.vs-vasoldsberg.at
X-WR-CALDESC:Veranstaltungen für Volksschule Vasoldsberg
BEGIN:VTIMEZONE
TZID:Europe/Vienna
BEGIN:DAYLIGHT
TZOFFSETFROM:+0100
TZOFFSETTO:+0200
TZNAME:CEST
DTSTART:20250330T010000
END:DAYLIGHT
BEGIN:STANDARD
TZOFFSETFROM:+0200
TZOFFSETTO:+0100
TZNAME:CET
DTSTART:20251026T010000
END:STANDARD
END:VTIMEZONE
BEGIN:VEVENT
DTSTART;TZID=Europe/Vienna:20251119T000000
DTEND;TZID=Europe/Vienna:20251119T000000
DTSTAMP:20260423T172637
CREATED:20250810T082600Z
LAST-MODIFIED:20250810T082747Z
UID:11317-1763510400-1763510400@www.vs-vasoldsberg.at
SUMMARY:Müllworkshops Leichtverpackung (Familienklassen)
DESCRIPTION:
URL:https://www.vs-vasoldsberg.at/event/muellworkshop-leichtverpackung-familienklassen/
END:VEVENT
END:VCALENDAR