BEGIN:VCALENDAR
VERSION:2.0
PRODID:-//Volksschule Vasoldsberg - ECPv5.16.4//NONSGML v1.0//EN
CALSCALE:GREGORIAN
METHOD:PUBLISH
X-WR-CALNAME:Volksschule Vasoldsberg
X-ORIGINAL-URL:https://www.vs-vasoldsberg.at
X-WR-CALDESC:Veranstaltungen für Volksschule Vasoldsberg
BEGIN:VTIMEZONE
TZID:Europe/Vienna
BEGIN:DAYLIGHT
TZOFFSETFROM:+0100
TZOFFSETTO:+0200
TZNAME:CEST
DTSTART:20250330T010000
END:DAYLIGHT
BEGIN:STANDARD
TZOFFSETFROM:+0200
TZOFFSETTO:+0100
TZNAME:CET
DTSTART:20251026T010000
END:STANDARD
END:VTIMEZONE
BEGIN:VEVENT
DTSTART;TZID=Europe/Vienna:20251217T090000
DTEND;TZID=Europe/Vienna:20251217T110000
DTSTAMP:20260423T230850
CREATED:20251016T122238Z
LAST-MODIFIED:20251215T161537Z
UID:11420-1765962000-1765969200@www.vs-vasoldsberg.at
SUMMARY:Adventfenster der Gemeinde im Schulhaus - Lesen Sie mehr Info dazu ...
DESCRIPTION:Unser „Adventürchen“ ist geöffnet. Alle sind willkommen. \nVon 09:00 bis 11:00 können Sie gemeinsam mit den Kindern\, dem Team und den VertreterInnen des Elternvereins Ihrer Volksschule mit allen Sinnen in die wundersame Adventzeit eintauchen. \n\n Adventfenster_Programm  \n\n  \nLassen Sie sich überraschen!
URL:https://www.vs-vasoldsberg.at/event/adventfenster-der-gemeinde-im-schulhaus/
LOCATION:Schulhalle
END:VEVENT
END:VCALENDAR